Workbook

Sheet Metrics  Benchmarks
A1: Company Metrics | D1: Benchmarks
A2: ARR Segment | B2: <$10M | D2: ARR Growth % (Annualized) | E2: =IFS(B2="<$10M", 0.26, B2="$10M - $25M", 0.17, B2="$25M - $50M", 0.21, B2=">$50M", 0.17) -> 0.26
A3: Actual ARR | B3: 15000000 | D3: % New Logo Revenue | E3: =IFS(B2="<$10M", 0.7, B2="$10M - $25M", 0.52, B2="$25M - $50M", 0.51, B2=">$50M", 0.5) -> 0.7
A4: New Logo ACV | B4: 15000 | D4: % Upsell / Expnsion Revenue | E4: =1-E3 -> 0.3
A5: Expansion / Upsell ACV | B5: 10000 | D5: AE Quota Attainment | E5: =IFS(B6="Below Average", 0.5, B6="Average", 0.75, B6="Above Average", 1) -> 1
A6: AE Quota Attainment Benchmark | B6: Above Average
D7: New ARR | E7: =IFS(B2="<$10M", ((0.26*B3)), B2="$10M - $25M", ((0.17*B3)), B2="$25M - $50M", ((0.21*B3)), B2=">$50M", ((0.17*B3))) -> 3900000
A8: AE Count | B8: 2 | D8: New Logo Revenue | E8: =E7*E3 -> 2730000
A9: AE Quota (ARR/Month) | B9: 25000 | D9: Expansion / Upsell Revenue | E9: =E7*E4 -> 1170000
A10: AE Activity (Dials / Day) | B10: 20 | D10: New Logos / AE | E10: =(B9*E5)/B4 -> 1.6666667
A11: SDR Count | B11: 1 | D11: Revenue / AE | E11: =B9*E5 -> 25000
A12: SDR Activity (Dials / Day) | B12: 100
D13: Paid CPC | E13: =B15/(B14*B16) -> 0.66666667
A14: Website Visitors (MoM) | B14: 1000
A15: PPC / Social Ad Budget (MoM) | B15: 500
A16: % of Visitors from Paid | B16: 0.75
A17: % of Visitors from Organic | B17: 0.25

Sheet Outbound
A1: Metric | B1: Value
A2: % Of Revenue | B2: 0.5
A3: Channel Benchmark | B3: Below Average
A4: Touchpoints / Contact | B4: =IFS(B3="Below Average", 2, B3="Average", 6, B3="Above Average", 10, B3="Custom", "Set Custom Value") -> 2
A5: Contact to Demo Booked | B5: =IFS(B3="Below Average", 0.005, B3="Average", 0.02, B3="Above Average", 0.06, B3="Custom", "Set Custom Value") -> 0.005
A6: Demo Booked to Attended % | B6: =IFS(B3="Below Average", 0.7, B3="Average", 0.8, B3="Above Average", 0.9, B3="Custom", "Set Custom Value") -> 0.7
A7: Demo Attended to Opportunity % | B7: =IFS(B3="Below Average", 0.4, B3="Average", 0.6, B3="Above Average", 0.75, B3="Custom", "Set Custom Value") -> 0.4
A8: Opportunity to Won Deal % | B8: =IFS(B3="Below Average", 0.2, B3="Average", 0.35, B3="Above Average", 0.5, B3="Custom", "Set Custom Value") -> 0.2
A9: Channel $ (Per Year) | B9: =B2*'Metrics Benchmarks'!E8 -> 1365000
A10: Channel $ (Per Month) | B10: =B9/12 -> 113750
A11: MoM Growth Rate | B11: =IF(RATE(12,-B29,0,B9,1)<0, 0, RATE(12,-B29,0,B9,1)) -> 0.36491711
A13: WATERFALL | B13: Current Ceiling | C13: January | D13: February | E13: March | F13: April | G13: May | H13: June | I13: July | J13: August | K13: September | L13: October | M13: November | N13: December
A14: AE Count (Ramped) | B14: ='Metrics Benchmarks'!B8 -> 2 | C14: =IF(C29/'Metrics Benchmarks'!B9<1, 1, 'Metrics Benchmarks'!B9) -> 1 | D14: =D29/'Metrics Benchmarks'!B9 -> 0.66639464 | E14: =E29/'Metrics Benchmarks'!B9 -> 0.90957345 | F14: =F29/'Metrics Benchmarks'!B9 -> 1.2414924 | G14: =G29/'Metrics Benchmarks'!B9 -> 1.6945342 | H14: =H29/'Metrics Benchmarks'!B9 -> 2.3128987 | I14: =I29/'Metrics Benchmarks'!B9 -> 3.156915 | J14: =J29/'Metrics Benchmarks'!B9 -> 4.3089273 | K14: =K29/'Metrics Benchmarks'!B9 -> 5.8813287 | L14: =L29/'Metrics Benchmarks'!B9 -> 8.0275261 | M14: =M29/'Metrics Benchmarks'!B9 -> 10.956908 | N14: =N29/'Metrics Benchmarks'!B9 -> 14.955271
A15: BDR Count (Ramped) | B15: ='Metrics Benchmarks'!B11 -> 1 | C15: =((C19/(365/12))/'Metrics Benchmarks'!B12) -> 1.910884 | D15: =((D19/(365/12))/'Metrics Benchmarks'!B12) -> 2.6081982 | E15: =((E19/(365/12))/'Metrics Benchmarks'!B12) -> 3.5599744 | F15: =((F19/(365/12))/'Metrics Benchmarks'!B12) -> 4.8590699 | G15: =((G19/(365/12))/'Metrics Benchmarks'!B12) -> 6.6322277 | H15: =((H19/(365/12))/'Metrics Benchmarks'!B12) -> 9.0524411 | I15: =((I19/(365/12))/'Metrics Benchmarks'!B12) -> 12.355832 | J15: =((J19/(365/12))/'Metrics Benchmarks'!B12) -> 16.864686 | K15: =((K19/(365/12))/'Metrics Benchmarks'!B12) -> 23.018899 | L15: =((L19/(365/12))/'Metrics Benchmarks'!B12) -> 31.418889 | M15: =((M19/(365/12))/'Metrics Benchmarks'!B12) -> 42.884179 | N15: =((N19/(365/12))/'Metrics Benchmarks'!B12) -> 58.53335
A17: Contacts Engaged | B17: =B19/B4 -> 2129.1667 | C17: =C21/B5 -> 2906.136 | D17: =D21/B5 -> 3966.6348 | E17: =E21/B5 -> 5414.1277 | F17: =F21/B5 -> 7389.8355 | G17: =G21/B5 -> 10086.513 | H17: =H21/B5 -> 13767.254 | I17: =I21/B5 -> 18791.161 | J17: =J21/B5 -> 25648.377 | K17: =K21/B5 -> 35007.909 | L17: =L21/B5 -> 47782.894 | M17: =M21/B5 -> 65219.689 | N17: =N21/B5 -> 89019.47
A18: Avg Touches / Contact | B18: =B4 -> 2 | C18: =B4 -> 2 | D18: =B4 -> 2 | E18: =B4 -> 2 | F18: =B4 -> 2 | G18: =B4 -> 2 | H18: =B4 -> 2 | I18: =B4 -> 2 | J18: =B4 -> 2 | K18: =B4 -> 2 | L18: =B4 -> 2 | M18: =B4 -> 2 | N18: =B4 -> 2
A19: Contact Touches | B19: =((B15*'Metrics Benchmarks'!B12)+(B14*'Metrics Benchmarks'!B10))*(365/12) -> 4258.3333 | C19: =C17*B4 -> 5812.272 | D19: =D17*B4 -> 7933.2696 | E19: =E17*B4 -> 10828.255 | F19: =F17*B4 -> 14779.671 | G19: =G17*B4 -> 20173.026 | H19: =H17*B4 -> 27534.508 | I19: =I17*B4 -> 37582.322 | J19: =J17*B4 -> 51296.754 | K19: =K17*B4 -> 70015.817 | L19: =L17*B4 -> 95565.787 | M19: =M17*B4 -> 130439.38 | N19: =N17*B4 -> 178038.94
A20: Contact to Demo Booked | B20: =B5 -> 0.005 | C20: =B5 -> 0.005 | D20: =B5 -> 0.005 | E20: =B5 -> 0.005 | F20: =B5 -> 0.005 | G20: =B5 -> 0.005 | H20: =B5 -> 0.005 | I20: =B5 -> 0.005 | J20: =B5 -> 0.005 | K20: =B5 -> 0.005 | L20: =B5 -> 0.005 | M20: =B5 -> 0.005 | N20: =B5 -> 0.005
A21: Demos Booked | B21: =B17*B5 -> 10.645833 | C21: =C23/B6 -> 14.53068 | D21: =D23/B6 -> 19.833174 | E21: =E23/B6 -> 27.070638 | F21: =F23/B6 -> 36.949178 | G21: =G23/B6 -> 50.432565 | H21: =H23/B6 -> 68.836271 | I21: =I23/B6 -> 93.955804 | J21: =J23/B6 -> 128.24188 | K21: =K23/B6 -> 175.03954 | L21: =L23/B6 -> 238.91447 | M21: =M23/B6 -> 326.09845 | N21: =N23/B6 -> 445.09735
A22: Demo Booked to Attended | B22: =B6 -> 0.7 | C22: =B6 -> 0.7 | D22: =B6 -> 0.7 | E22: =B6 -> 0.7 | F22: =B6 -> 0.7 | G22: =B6 -> 0.7 | H22: =B6 -> 0.7 | I22: =B6 -> 0.7 | J22: =B6 -> 0.7 | K22: =B6 -> 0.7 | L22: =B6 -> 0.7 | M22: =B6 -> 0.7 | N22: =B6 -> 0.7
A23: Demos Attended | B23: =B21*B6 -> 7.4520833 | C23: =C25/B7 -> 10.171476 | D23: =D25/B7 -> 13.883222 | E23: =E25/B7 -> 18.949447 | F23: =F25/B7 -> 25.864424 | G23: =G25/B7 -> 35.302795 | H23: =H25/B7 -> 48.18539 | I23: =I25/B7 -> 65.769063 | J23: =J25/B7 -> 89.769319 | K23: =K25/B7 -> 122.52768 | L23: =L25/B7 -> 167.24013 | M23: =M25/B7 -> 228.26891 | N23: =N25/B7 -> 311.56814
A24: Demo Attended to Opportunity | B24: =B7 -> 0.4 | C24: =B7 -> 0.4 | D24: =B7 -> 0.4 | E24: =B7 -> 0.4 | F24: =B7 -> 0.4 | G24: =B7 -> 0.4 | H24: =B7 -> 0.4 | I24: =B7 -> 0.4 | J24: =B7 -> 0.4 | K24: =B7 -> 0.4 | L24: =B7 -> 0.4 | M24: =B7 -> 0.4 | N24: =B7 -> 0.4
A25: Opportunities Created | B25: =B23*B7 -> 2.9808333 | C25: =C27/B8 -> 4.0685904 | D25: =D27/B8 -> 5.5532887 | E25: =E27/B8 -> 7.5797788 | F25: =F27/B8 -> 10.34577 | G25: =G27/B8 -> 14.121118 | H25: =H27/B8 -> 19.274156 | I25: =I27/B8 -> 26.307625 | J25: =J27/B8 -> 35.907728 | K25: =K27/B8 -> 49.011072 | L25: =L27/B8 -> 66.896051 | M25: =M27/B8 -> 91.307565 | N25: =N27/B8 -> 124.62726
A26: Opportunity to Won Deal | B26: =B8 -> 0.2 | C26: =B8 -> 0.2 | D26: =B8 -> 0.2 | E26: =B8 -> 0.2 | F26: =B8 -> 0.2 | G26: =B8 -> 0.2 | H26: =B8 -> 0.2 | I26: =B8 -> 0.2 | J26: =B8 -> 0.2 | K26: =B8 -> 0.2 | L26: =B8 -> 0.2 | M26: =B8 -> 0.2 | N26: =B8 -> 0.2
A27: CW Deals | B27: =B25*B8 -> 0.59616667 | C27: =C29/'Metrics Benchmarks'!B4 -> 0.81371809 | D27: =D29/'Metrics Benchmarks'!B4 -> 1.1106577 | E27: =E29/'Metrics Benchmarks'!B4 -> 1.5159558 | F27: =F29/'Metrics Benchmarks'!B4 -> 2.069154 | G27: =G29/'Metrics Benchmarks'!B4 -> 2.8242236 | H27: =H29/'Metrics Benchmarks'!B4 -> 3.8548312 | I27: =I29/'Metrics Benchmarks'!B4 -> 5.261525 | J27: =J29/'Metrics Benchmarks'!B4 -> 7.1815456 | K27: =K29/'Metrics Benchmarks'!B4 -> 9.8022144 | L27: =L29/'Metrics Benchmarks'!B4 -> 13.37921 | M27: =M29/'Metrics Benchmarks'!B4 -> 18.261513 | N27: =N29/'Metrics Benchmarks'!B4 -> 24.925452
A28: New Logo ACV | B28: ='Metrics Benchmarks'!B4 -> 15000 | C28: ='Metrics Benchmarks'!B4 -> 15000 | D28: ='Metrics Benchmarks'!B4 -> 15000 | E28: ='Metrics Benchmarks'!B4 -> 15000 | F28: ='Metrics Benchmarks'!B4 -> 15000 | G28: ='Metrics Benchmarks'!B4 -> 15000 | H28: ='Metrics Benchmarks'!B4 -> 15000 | I28: ='Metrics Benchmarks'!B4 -> 15000 | J28: ='Metrics Benchmarks'!B4 -> 15000 | K28: ='Metrics Benchmarks'!B4 -> 15000 | L28: ='Metrics Benchmarks'!B4 -> 15000 | M28: ='Metrics Benchmarks'!B4 -> 15000 | N28: ='Metrics Benchmarks'!B4 -> 15000
A29: Channel $ | B29: =B27*'Metrics Benchmarks'!B4 -> 8942.5 | C29: =B29+(B29*B11) -> 12205.771 | D29: =C29+(C29*B11) -> 16659.866 | E29: =D29+(D29*B11) -> 22739.336 | F29: =E29+(E29*B11) -> 31037.309 | G29: =F29+(F29*B11) -> 42363.355 | H29: =G29+(G29*B11) -> 57822.468 | I29: =H29+(H29*B11) -> 78922.875 | J29: =I29+(I29*B11) -> 107723.18 | K29: =J29+(J29*B11) -> 147033.22 | L29: =K29+(K29*B11) -> 200688.15 | M29: =L29+(L29*B11) -> 273922.69 | N29: =M29+(M29*B11) -> 373881.77

Sheet Inbound
A1: Metric | B1: Value
A2: % Of Revenue | B2: 0.5
A3: Channel Benchmark | B3: Average
A4: Visitor to Lead % | B4: =IFS(B3="Below Average", 0.005, B3="Average", 0.02, B3="Above Average", 0.05, B3="Custom", "Set Custom Value") -> 0.02
A5: Lead to Demo Booked | B5: =IFS(B3="Below Average", 0.2, B3="Average", 0.35, B3="Above Average", 0.45, B3="Custom", "Set Custom Value") -> 0.35
A6: Demo Booked to Attended % | B6: =IFS(B3="Below Average", 0.25, B3="Average", 0.4, B3="Above Average", 0.5, B3="Custom", "Set Custom Value") -> 0.4
A7: Demo Attended to Opportunity % | B7: =IFS(B3="Below Average", 0.3, B3="Average", 0.4, B3="Above Average", 0.5, B3="Custom", "Set Custom Value") -> 0.4
A8: Opportunity to Won Deal % | B8: =IFS(B3="Below Average", 0.2, B3="Average", 0.35, B3="Above Average", 0.5, B3="Custom", "Set Custom Value") -> 0.35
A9: Channel $ (Per Year) | B9: =B2*'Metrics Benchmarks'!E8 -> 1365000
A10: Channel $ (Per Month) | B10: =B9/12 -> 113750
A11: MoM Growth Rate | B11: =IF(RATE(12,-B28,0,B9,1)<0, 0, RATE(12,-B28,0,B9,1)) -> 0.425264
A14: WATERFALL | B14: Current Ceiling | C14: January | D14: February | E14: March | F14: April | G14: May | H14: June | I14: July | J14: August | K14: September | L14: October | M14: November | N14: December
A15: Advertising Budget | B15: ='Metrics Benchmarks'!B15 -> 500 | C15: =(C16*'Metrics Benchmarks'!B16)*'Metrics Benchmarks'!E13 -> 712.632 | D15: =(D16*'Metrics Benchmarks'!B16)*'Metrics Benchmarks'!E13 -> 1015.6887 | E15: =(E16*'Metrics Benchmarks'!B16)*'Metrics Benchmarks'!E13 -> 1447.6246 | F15: =(F16*'Metrics Benchmarks'!B16)*'Metrics Benchmarks'!E13 -> 2063.2472 | G15: =(G16*'Metrics Benchmarks'!B16)*'Metrics Benchmarks'!E13 -> 2940.6719 | H15: =(H16*'Metrics Benchmarks'!B16)*'Metrics Benchmarks'!E13 -> 4191.2338 | I15: =(I16*'Metrics Benchmarks'!B16)*'Metrics Benchmarks'!E13 -> 5973.6147 | J15: =(J16*'Metrics Benchmarks'!B16)*'Metrics Benchmarks'!E13 -> 8513.9779 | K15: =(K16*'Metrics Benchmarks'!B16)*'Metrics Benchmarks'!E13 -> 12134.666 | L15: =(L16*'Metrics Benchmarks'!B16)*'Metrics Benchmarks'!E13 -> 17295.103 | M15: =(M16*'Metrics Benchmarks'!B16)*'Metrics Benchmarks'!E13 -> 24650.087 | N15: =(N16*'Metrics Benchmarks'!B16)*'Metrics Benchmarks'!E13 -> 35132.882
A16: Site Visitors | B16: ='Metrics Benchmarks'!B14 -> 1000 | C16: =C18/C19 -> 1425.264 | D16: =D18/D19 -> 2031.3775 | E16: =E18/E19 -> 2895.2491 | F16: =F18/F19 -> 4126.4944 | G16: =G18/G19 -> 5881.3438 | H16: =H18/H19 -> 8382.4676 | I16: =I18/I19 -> 11947.229 | J16: =J18/J19 -> 17027.956 | ... N16: =N18/N19 -> 70265.764
A18: Leads Generated | B18: =B16*B4 -> 20 | C18: =C20/C21 -> 28.50528 | D18: =D20/D21 -> 40.627549 | E18: =E20/E21 -> 57.904983 | F18: =F20/F21 -> 82.529887 | G18: =G20/G21 -> 117.62688 | H18: =H20/H21 -> 167.64935 | I18: =I20/I21 -> 238.94459 | J18: =J20/J21 -> 340.55912 | ... N18: =N20/N21 -> 1405.3153
A19: Visitor to Lead % | B19: =B4 -> 0.02 | C19: =B4 -> 0.02 | D19: =B4 -> 0.02 | E19: =B4 -> 0.02 | F19: =B4 -> 0.02 | G19: =B4 -> 0.02 | H19: =B4 -> 0.02 | I19: =B4 -> 0.02 | J19: =B4 -> 0.02 | K19: =B4 -> 0.02 | L19: =B4 -> 0.02 | M19: =B4 -> 0.02 | N19: =B4 -> 0.02
A20: Demos Booked | B20: =B18*B5 -> 7 | C20: =C22/C23 -> 11.402112 | D20: =D22/D23 -> 16.25102 | E20: =E22/E23 -> 23.161993 | F20: =F22/F23 -> 33.011955 | G20: =G22/G23 -> 47.050751 | H20: =H22/H23 -> 67.059741 | I20: =I22/I23 -> 95.577834 | J20: =J22/J23 -> 136.22365 | ... N20: =N22/N23 -> 562.12611
A21: Demo Booked to Attended | B21: =B6 -> 0.4 | C21: =B6 -> 0.4 | D21: =B6 -> 0.4 | E21: =B6 -> 0.4 | F21: =B6 -> 0.4 | G21: =B6 -> 0.4 | H21: =B6 -> 0.4 | I21: =B6 -> 0.4 | J21: =B6 -> 0.4 | K21: =B6 -> 0.4 | L21: =B6 -> 0.4 | M21: =B6 -> 0.4 | N21: =B6 -> 0.4
A22: Demos Attended | B22: =B20*B6 -> 2.8 | C22: =C24/C25 -> 4.5608448 | D22: =D24/D25 -> 6.5004079 | E22: =E24/E25 -> 9.2647973 | F22: =F24/F25 -> 13.204782 | G22: =G24/G25 -> 18.8203 | H22: =H24/H25 -> 26.823896 | I22: =I24/I25 -> 38.231134 | J22: =J24/J25 -> 54.489458 | ... N22: =N24/N25 -> 224.85044
A23: Demo Attended to Opportunity | B23: =B7 -> 0.4 | C23: =B7 -> 0.4 | D23: =B7 -> 0.4 | E23: =B7 -> 0.4 | F23: =B7 -> 0.4 | G23: =B7 -> 0.4 | H23: =B7 -> 0.4 | I23: =B7 -> 0.4 | J23: =B7 -> 0.4 | K23: =B7 -> 0.4 | L23: =B7 -> 0.4 | M23: =B7 -> 0.4 | N23: =B7 -> 0.4
A24: Opportunities Created | B24: =B22*B7 -> 1.12 | C24: =C26/C25 -> 1.5962957 | D24: =D26/D25 -> 2.2751428 | E24: =E26/E25 -> 3.242679 | F24: =F26/F25 -> 4.6216737 | G24: =G26/G25 -> 6.5871051 | H24: =H26/H25 -> 9.3883637 | I24: =I26/I25 -> 13.380897 | J24: =J26/J25 -> 19.07131 | ... N24: =N26/N25 -> 78.697655
A25: Opportunity to Won Deal | B25: =B8 -> 0.35 | C25: =B8 -> 0.35 | D25: =B8 -> 0.35 | E25: =B8 -> 0.35 | F25: =B8 -> 0.35 | G25: =B8 -> 0.35 | H25: =B8 -> 0.35 | I25: =B8 -> 0.35 | J25: =B8 -> 0.35 | K25: =B8 -> 0.35 | L25: =B8 -> 0.35 | M25: =B8 -> 0.35 | N25: =B8 -> 0.35
A26: CW Deals | B26: =B24*B8 -> 0.392 | C26: =C28/C27 -> 0.55870349 | D26: =D28/D27 -> 0.79629996 | E26: =E28/E27 -> 1.1349377 | F26: =F28/F27 -> 1.6175858 | G26: =G28/G27 -> 2.3054868 | H26: =H28/H27 -> 3.2859273 | I26: =I28/I27 -> 4.6833139 | J26: =J28/J27 -> 6.6749587 | ... N26: =N28/N27 -> 27.544179
A27: New Logo ACV | B27: ='Metrics Benchmarks'!B4 -> 15000 | C27: ='Metrics Benchmarks'!B4 -> 15000 | D27: ='Metrics Benchmarks'!B4 -> 15000 | E27: ='Metrics Benchmarks'!B4 -> 15000 | F27: ='Metrics Benchmarks'!B4 -> 15000 | G27: ='Metrics Benchmarks'!B4 -> 15000 | H27: ='Metrics Benchmarks'!B4 -> 15000 | I27: ='Metrics Benchmarks'!B4 -> 15000 | J27: ='Metrics Benchmarks'!B4 -> 15000 | K27: ='Metrics Benchmarks'!B4 -> 15000 | L27: ='Metrics Benchmarks'!B4 -> 15000 | M27: ='Metrics Benchmarks'!B4 -> 15000 | N27: ='Metrics Benchmarks'!B4 -> 15000
A28: Channel $ | B28: =B26*'Metrics Benchmarks'!B4 -> 5880 | C28: =(B28*B11)+B28 -> 8380.5523 | D28: =(C28*B11)+C28 -> 11944.499 | E28: =(D28*B11)+D28 -> 17024.065 | F28: =(E28*B11)+E28 -> 24263.787 | G28: =(F28*B11)+F28 -> 34582.302 | H28: =(G28*B11)+G28 -> 49288.91 | I28: =(H28*B11)+H28 -> 70249.708 | J28: =(I28*B11)+I28 -> 100124.38 | K28: =(J28*B11)+J28 -> 142703.67 | L28: =(K28*B11)+K28 -> 203390.41 | M28: =(L28*B11)+L28 -> 289885.03 | N28: =(M28*B11)+M28 -> 413162.69
